BEGIN:VCALENDAR
VERSION:2.0
PRODID:-//BezirksDartVerband Lüneburger Heide von 2008 eV - ECPv6.15.20//NONSGML v1.0//EN
CALSCALE:GREGORIAN
METHOD:PUBLISH
X-WR-CALNAME:BezirksDartVerband Lüneburger Heide von 2008 eV
X-ORIGINAL-URL:https://bdvlhvon2008ev.de
X-WR-CALDESC:Veranstaltungen für BezirksDartVerband Lüneburger Heide von 2008 eV
REFRESH-INTERVAL;VALUE=DURATION:PT1H
X-Robots-Tag:noindex
X-PUBLISHED-TTL:PT1H
BEGIN:VTIMEZONE
TZID:Europe/Helsinki
BEGIN:DAYLIGHT
TZOFFSETFROM:+0200
TZOFFSETTO:+0300
TZNAME:EEST
DTSTART:20240331T010000
END:DAYLIGHT
BEGIN:STANDARD
TZOFFSETFROM:+0300
TZOFFSETTO:+0200
TZNAME:EET
DTSTART:20241027T010000
END:STANDARD
BEGIN:DAYLIGHT
TZOFFSETFROM:+0200
TZOFFSETTO:+0300
TZNAME:EEST
DTSTART:20250330T010000
END:DAYLIGHT
BEGIN:STANDARD
TZOFFSETFROM:+0300
TZOFFSETTO:+0200
TZNAME:EET
DTSTART:20251026T010000
END:STANDARD
BEGIN:DAYLIGHT
TZOFFSETFROM:+0200
TZOFFSETTO:+0300
TZNAME:EEST
DTSTART:20260329T010000
END:DAYLIGHT
BEGIN:STANDARD
TZOFFSETFROM:+0300
TZOFFSETTO:+0200
TZNAME:EET
DTSTART:20261025T010000
END:STANDARD
END:VTIMEZONE
BEGIN:VEVENT
DTSTART;TZID=Europe/Helsinki:20250727T130000
DTEND;TZID=Europe/Helsinki:20250727T170000
DTSTAMP:20260425T213358
CREATED:20250423T100442Z
LAST-MODIFIED:20250629T194933Z
UID:1996-1753621200-1753635600@bdvlhvon2008ev.de
SUMMARY:BDVLH von 2008 e.V. außerordentliche Delegiertenversammlung
DESCRIPTION:Die außerordentliche Deligiertenversammlung findet in Achim bei den Dart Moor Lions statt (siehe unten).Die Tagesordnung der außerordentlichen Delegiertenversammlung lautet wie folgt: \n\n\n\n1) Begrüßung durch den Präsidenten2) Wahl eines Protokollführers3) Feststellung der Stimmberechtigung4) Feststellung der Beschlussfähigkeit5) Genehmigung der Tagesordnung6) Verlesung des Protokolls der ordentlichen Delegiertenversammlung am \n\n\n\nDezember 2022 und Genehmigung (bereits versendet per E-Mail an alle Vereine)7) Bericht des Präsidenten8) Bericht des Vizepräsidenten9) Bericht des Schatzmeisters und Bekanntgabe der Mitgliedsbeiträge für die Saison2024/2025 und 2025/202610) Bericht des Sportwartes11) Bericht des Damen-/Jugendwartes12) Bericht des Medienreferenten13) Bericht des Schriftführers14) Bericht der Kassenprüfung und Entlastung des Schatzmeisters15) Vorstellung und Genehmigung des Haushaltsrahmenplanes für die Saison 2024/2025und 2025/202616) Entlastung des Präsidiums (Präsident\, Vizepräsident\, Schriftführer\, Sportwart\,Medienreferent\, Damen-/Jugendwart)17) Wahlen: Präsident\, Vizepräsident\, Sportwart\, Damen-/Jugendwart\, Medienreferent\,Schriftführer\, Kassenprüfer18) Bekanntgabe der Änderungen bzw. Ergänzungen zur Sport- und Wettkampfordnung19) Anträge20) Sonstiges (u. a. Pokalübergaben sowie die Besprechung derSatzungsänderungsvorlage für die ordentliche Delegiertenversammlung imGeschäftsjahr der Saison 25/26\, wird vorher per E-Mail verschickt an dieMitglieder)
URL:https://bdvlhvon2008ev.de/event/bdvlh-von-2008-e-v-delegiertenversammlung/
LOCATION:Dart Moor Lions\, Am Freibad 20\, Achim\, 28832\, Deutschland
END:VEVENT
END:VCALENDAR