BEGIN:VCALENDAR
VERSION:2.0
PRODID:-//BezirksDartVerband Lüneburger Heide von 2008 eV - ECPv6.15.20//NONSGML v1.0//EN
CALSCALE:GREGORIAN
METHOD:PUBLISH
X-ORIGINAL-URL:https://bdvlhvon2008ev.de
X-WR-CALDESC:Veranstaltungen für BezirksDartVerband Lüneburger Heide von 2008 eV
REFRESH-INTERVAL;VALUE=DURATION:PT1H
X-Robots-Tag:noindex
X-PUBLISHED-TTL:PT1H
BEGIN:VTIMEZONE
TZID:Europe/Helsinki
BEGIN:DAYLIGHT
TZOFFSETFROM:+0200
TZOFFSETTO:+0300
TZNAME:EEST
DTSTART:20240331T010000
END:DAYLIGHT
BEGIN:STANDARD
TZOFFSETFROM:+0300
TZOFFSETTO:+0200
TZNAME:EET
DTSTART:20241027T010000
END:STANDARD
BEGIN:DAYLIGHT
TZOFFSETFROM:+0200
TZOFFSETTO:+0300
TZNAME:EEST
DTSTART:20250330T010000
END:DAYLIGHT
BEGIN:STANDARD
TZOFFSETFROM:+0300
TZOFFSETTO:+0200
TZNAME:EET
DTSTART:20251026T010000
END:STANDARD
BEGIN:DAYLIGHT
TZOFFSETFROM:+0200
TZOFFSETTO:+0300
TZNAME:EEST
DTSTART:20260329T010000
END:DAYLIGHT
BEGIN:STANDARD
TZOFFSETFROM:+0300
TZOFFSETTO:+0200
TZNAME:EET
DTSTART:20261025T010000
END:STANDARD
END:VTIMEZONE
BEGIN:VEVENT
DTSTART;TZID=Europe/Helsinki:20250608T100000
DTEND;TZID=Europe/Helsinki:20250608T180000
DTSTAMP:20260425T230238
CREATED:20250316T150931Z
LAST-MODIFIED:20250523T112050Z
UID:1964-1749376800-1749405600@bdvlhvon2008ev.de
SUMMARY:4. Jugend-RLT des BDVLH Saison 2024/2025
DESCRIPTION:Datum : 04.05.2025Einlass ab : 10:00 UhrAm Freibad 2028832 AchimBeginn : 11:00 UhrStartgeld : 0 €Die Teilnehmer müssen Mitglied im BDVLH von 2008 e.V. sein!! \n\n\n\n\nAnmeldung
URL:https://bdvlhvon2008ev.de/event/4-jugend-rlt-des-bdvlh-saison-2024-2025/
LOCATION:Dart Moor Lions\, Am Freibad 20\, Achim\, 28832\, Deutschland
ATTACH;FMTTYPE=image/jpeg:https://bdvlhvon2008ev.de/wp-content/uploads/2025/03/Plakat_Jugend_RLT_113-20-12.jpg
ORGANIZER;CN="Kommissarischer Jugendwart BDVLH":MAILTO:damen-jugendwart@bdvlhvon2008ev.de
END:VEVENT
END:VCALENDAR