BEGIN:VCALENDAR
VERSION:2.0
PRODID:-//BezirksDartVerband Lüneburger Heide von 2008 eV - ECPv6.15.20//NONSGML v1.0//EN
CALSCALE:GREGORIAN
METHOD:PUBLISH
X-ORIGINAL-URL:https://bdvlhvon2008ev.de
X-WR-CALDESC:Veranstaltungen für BezirksDartVerband Lüneburger Heide von 2008 eV
REFRESH-INTERVAL;VALUE=DURATION:PT1H
X-Robots-Tag:noindex
X-PUBLISHED-TTL:PT1H
BEGIN:VTIMEZONE
TZID:Europe/Helsinki
BEGIN:DAYLIGHT
TZOFFSETFROM:+0200
TZOFFSETTO:+0300
TZNAME:EEST
DTSTART:20240331T010000
END:DAYLIGHT
BEGIN:STANDARD
TZOFFSETFROM:+0300
TZOFFSETTO:+0200
TZNAME:EET
DTSTART:20241027T010000
END:STANDARD
BEGIN:DAYLIGHT
TZOFFSETFROM:+0200
TZOFFSETTO:+0300
TZNAME:EEST
DTSTART:20250330T010000
END:DAYLIGHT
BEGIN:STANDARD
TZOFFSETFROM:+0300
TZOFFSETTO:+0200
TZNAME:EET
DTSTART:20251026T010000
END:STANDARD
BEGIN:DAYLIGHT
TZOFFSETFROM:+0200
TZOFFSETTO:+0300
TZNAME:EEST
DTSTART:20260329T010000
END:DAYLIGHT
BEGIN:STANDARD
TZOFFSETFROM:+0300
TZOFFSETTO:+0200
TZNAME:EET
DTSTART:20261025T010000
END:STANDARD
END:VTIMEZONE
BEGIN:VEVENT
DTSTART;TZID=Europe/Helsinki:20250504T100000
DTEND;TZID=Europe/Helsinki:20250504T180000
DTSTAMP:20260426T001319
CREATED:20250316T150723Z
LAST-MODIFIED:20250423T084537Z
UID:1962-1746352800-1746381600@bdvlhvon2008ev.de
SUMMARY:3. Jugend-RLT des BDVLH Saison 2024/2025
DESCRIPTION:Datum : 04.05.2025Einlass ab : 10:00 UhrVogteistraße 729683 Bad FallingbostelBeginn : 11:00 UhrStartgeld : 0 €Die Teilnehmer müssen Mitglied im BDVLH von 2008 e.V. sein!! \n\n\n\n\nAnmeldung
URL:https://bdvlhvon2008ev.de/event/3-jugend-rlt-des-bdvlh-saison-2024-2025/
LOCATION:DC Fally Flyers e. V. Vogteistraße 7 29683 Bad Fallingbostel\, Vogteistraße 7\, Bad Fallingbostel\, 29683\, Deutschland
ATTACH;FMTTYPE=image/jpeg:https://bdvlhvon2008ev.de/wp-content/uploads/2025/03/Plakat_Jugend_RLT_3-2024-2025.jpg
ORGANIZER;CN="Kommissarischer Jugendwart BDVLH":MAILTO:damen-jugendwart@bdvlhvon2008ev.de
END:VEVENT
BEGIN:VEVENT
DTSTART;TZID=Europe/Helsinki:20250518T090000
DTEND;TZID=Europe/Helsinki:20250518T200000
DTSTAMP:20260426T001320
CREATED:20240909T134232Z
LAST-MODIFIED:20250423T082251Z
UID:1855-1747558800-1747598400@bdvlhvon2008ev.de
SUMMARY:Einzelmeisterschaft des BDVLH Saison 2024/2025
DESCRIPTION:Teilnehmen kann jeder der im BDVLH gemeldet ist. \nEinlass ab : 09:00 Uhr \nBeginn : 10:00 Uhr \nNachmeldungen nur bis 09:30UhrStartgeld : 5\,00 €Auszahlung 100 %Anmeldung bis : 15.05.2025\, 23:59 UhrBei Nachmeldungen 3 € Aufschlag \n\n\n\n\n\n\n\nAnmeldung
URL:https://bdvlhvon2008ev.de/event/einzelmeisterschaft-des-bdvlh-saison-2024-2025/
LOCATION:Verein Dart Dragons\, Hauptstraße 79\, Verden\, Niedersachsen\, 27283\, Deutschland
ATTACH;FMTTYPE=image/jpeg:https://bdvlhvon2008ev.de/wp-content/uploads/2024/09/Einzelmeisterschaft-2024-2025.jpg
ORGANIZER;CN="BDVLH Turnierbeauftragter":MAILTO:turnierbeauftragter@bdvlhvon2008ev.de
END:VEVENT
END:VCALENDAR